BEGIN:VCALENDAR
VERSION:2.0
PRODID:-//Tukios.com/
BEGIN:VEVENT
UID:7f49bad9-69f4-4c91-900c-70879e02965f@www.owenfh.com
DTSTAMP:20260423T225928Z
DTSTART:20260428T180000Z
DTEND:20260428T190000Z
SUMMARY:Funeral Service
DESCRIPTION:
URL:https://www.owenfh.com/obituaries/sherman-allen
LOCATION:Owen Funeral Home 303 S Halifax Rd  Jarratt VA 23867
GEO:36.809945;-77.4677323
END:VEVENT
END:VCALENDAR