BEGIN:VCALENDAR
VERSION:2.0
PRODID:-//Tukios.com/
BEGIN:VEVENT
UID:febc1258-f081-48c8-bf4c-9863f1ac7455@www.owenfh.com
DTSTAMP:20260423T225749Z
DTSTART:20260428T163000Z
DTEND:20260428T180000Z
SUMMARY:Visitation
DESCRIPTION:
URL:https://www.owenfh.com/obituaries/sherman-allen
LOCATION:Owen Funeral Home 303 S Halifax Rd  Jarratt VA 23867
GEO:36.809945;-77.4677323
END:VEVENT
END:VCALENDAR